BEGIN:VCALENDAR
VERSION:2.0
PRODID:-//Algarve Marafado - ECPv6.15.20//NONSGML v1.0//EN
CALSCALE:GREGORIAN
METHOD:PUBLISH
X-ORIGINAL-URL:https://www.algarvemarafado.com
X-WR-CALDESC:Eventos para Algarve Marafado
REFRESH-INTERVAL;VALUE=DURATION:PT1H
X-Robots-Tag:noindex
X-PUBLISHED-TTL:PT1H
BEGIN:VTIMEZONE
TZID:UTC
BEGIN:STANDARD
TZOFFSETFROM:+0000
TZOFFSETTO:+0000
TZNAME:UTC
DTSTART:20220101T000000
END:STANDARD
END:VTIMEZONE
BEGIN:VEVENT
DTSTART;TZID=UTC:20230628T080000
DTEND;TZID=UTC:20230628T170000
DTSTAMP:20260420T162121
CREATED:20230606T211301Z
LAST-MODIFIED:20230606T211301Z
UID:80073-1687939200-1687971600@www.algarvemarafado.com
SUMMARY:PORTIMÃO: Início do Festival Afro Nation Portugal
DESCRIPTION:PORTIMÃO: Início do Festival Afro Nation Portugal\, na Praia da Rocha\, que conta com as atuações\, entre outros\, de Burna Boy\, 50 Cent e Booba.
URL:https://www.algarvemarafado.com/event/portimao-inicio-do-festival-afro-nation-portugal/
LOCATION:Portimão
CATEGORIES:Música
END:VEVENT
BEGIN:VEVENT
DTSTART;TZID=UTC:20230628T080000
DTEND;TZID=UTC:20230628T170000
DTSTAMP:20260420T162121
CREATED:20230606T211417Z
LAST-MODIFIED:20230606T211417Z
UID:80075-1687939200-1687971600@www.algarvemarafado.com
SUMMARY:LAGOA/PORCHES: Concerto de Rosinha
DESCRIPTION:LAGOA/PORCHES: Concerto de Rosinha\, em Porches\, no Festival do Caracol.
URL:https://www.algarvemarafado.com/event/lagoa-porches-concerto-de-rosinha/
LOCATION:Lagoa\, Lagoa
CATEGORIES:Música
ATTACH;FMTTYPE=image/jpeg:https://www.algarvemarafado.com/wp-content/uploads/2022/10/Rosinha_siteoficial.jpg
END:VEVENT
BEGIN:VEVENT
DTSTART;TZID=UTC:20230628T160000
DTEND;TZID=UTC:20230628T170000
DTSTAMP:20260420T162121
CREATED:20230515T112935Z
LAST-MODIFIED:20230515T112935Z
UID:79370-1687968000-1687971600@www.algarvemarafado.com
SUMMARY:PORTIMÃO: Festival Afro Nation Portugal
DESCRIPTION:Festival Afro Nation Portugal que decorre na Praia da Rocha até ao dia 30. Entre outras\, o certame vai contar com as atuações de Burna Boy\, 50 Cent e Booba.
URL:https://www.algarvemarafado.com/event/portimao-festival-afro-nation-portugal/
LOCATION:Portimão
CATEGORIES:Música
END:VEVENT
BEGIN:VEVENT
DTSTART;TZID=UTC:20230628T220000
DTEND;TZID=UTC:20230628T220000
DTSTAMP:20260420T162121
CREATED:20230515T112744Z
LAST-MODIFIED:20230515T112744Z
UID:79368-1687989600-1687989600@www.algarvemarafado.com
SUMMARY:PORCHES: Concerto de Rosinha
DESCRIPTION:Concerto de Rosinha\, no Festival do Caracol de Porches. Confira o programa aqui.
URL:https://www.algarvemarafado.com/event/porches-concerto-de-rosinha/
LOCATION:Lagoa\, Lagoa
CATEGORIES:Música
ATTACH;FMTTYPE=image/jpeg:https://www.algarvemarafado.com/wp-content/uploads/2022/10/Rosinha_siteoficial.jpg
END:VEVENT
END:VCALENDAR