BEGIN:VCALENDAR
VERSION:2.0
PRODID:-//Algarve Marafado - ECPv6.15.20//NONSGML v1.0//EN
CALSCALE:GREGORIAN
METHOD:PUBLISH
X-ORIGINAL-URL:https://www.algarvemarafado.com
X-WR-CALDESC:Eventos para Algarve Marafado
REFRESH-INTERVAL;VALUE=DURATION:PT1H
X-Robots-Tag:noindex
X-PUBLISHED-TTL:PT1H
BEGIN:VTIMEZONE
TZID:UTC
BEGIN:STANDARD
TZOFFSETFROM:+0000
TZOFFSETTO:+0000
TZNAME:UTC
DTSTART:20220101T000000
END:STANDARD
END:VTIMEZONE
BEGIN:VEVENT
DTSTART;TZID=UTC:20230705T180000
DTEND;TZID=UTC:20230709T180000
DTSTAMP:20260420T162208
CREATED:20230703T205330Z
LAST-MODIFIED:20230707T104929Z
UID:80736-1688580000-1688925600@www.algarvemarafado.com
SUMMARY:PORTIMÃO: Lota Cool Market
DESCRIPTION:PORTIMÃO: Lota Cool Market (zona ribeirinha de Portimão\, das 18h00 à 01h00)\, que se estende até domingo\, dia 9. Artesanato\, música\, animação e muita comida e bebida esperam pelos visitantes. Saiba mais aqui.
URL:https://www.algarvemarafado.com/event/portimao-arranque-do-lota-cool-market/
LOCATION:Portimão
CATEGORIES:Festa
ATTACH;FMTTYPE=image/jpeg:https://www.algarvemarafado.com/wp-content/uploads/2018/04/Portimao_Lota_Cool_Market.jpg
END:VEVENT
BEGIN:VEVENT
DTSTART;TZID=UTC:20230705T220000
DTEND;TZID=UTC:20230716T220000
DTSTAMP:20260420T162208
CREATED:20230703T205721Z
LAST-MODIFIED:20230713T214128Z
UID:80740-1688594400-1689544800@www.algarvemarafado.com
SUMMARY:TAVIRA: Festival Cenas na Rua
DESCRIPTION:TAVIRA: Festival Internacional de Teatro e Artes na Rua de Tavira – Cenas na Rua (5 a 16 de julho).
URL:https://www.algarvemarafado.com/event/tavira-festival-internacional-de-teatro-e-artes-na-rua-de-tavira-cenas-na-rua/
LOCATION:Tavira
CATEGORIES:Festa
END:VEVENT
BEGIN:VEVENT
DTSTART;TZID=UTC:20230706T190000
DTEND;TZID=UTC:20230709T190000
DTSTAMP:20260420T162208
CREATED:20230703T210032Z
LAST-MODIFIED:20230703T210032Z
UID:80742-1688670000-1688929200@www.algarvemarafado.com
SUMMARY:LAGOA: Mercado de Culturas à Luz das Velas
DESCRIPTION:LAGOA: 8ª edição do Mercado de Culturas à Luz das Velas\, em Lagoa (dias 6 a 9 de julho\, a partir das 19h00). Saiba mais aqui.
URL:https://www.algarvemarafado.com/event/lagoa-mercado-de-culturas-a-luz-das-velas/
LOCATION:Lagoa\, Lagoa
CATEGORIES:Festa
ATTACH;FMTTYPE=image/jpeg:https://www.algarvemarafado.com/wp-content/uploads/2017/07/Lagoa_MercadoCulturas2017.jpg
END:VEVENT
END:VCALENDAR