BEGIN:VCALENDAR
VERSION:2.0
PRODID:-//Algarve Marafado - ECPv6.15.20//NONSGML v1.0//EN
CALSCALE:GREGORIAN
METHOD:PUBLISH
X-ORIGINAL-URL:https://www.algarvemarafado.com
X-WR-CALDESC:Eventos para Algarve Marafado
REFRESH-INTERVAL;VALUE=DURATION:PT1H
X-Robots-Tag:noindex
X-PUBLISHED-TTL:PT1H
BEGIN:VTIMEZONE
TZID:UTC
BEGIN:STANDARD
TZOFFSETFROM:+0000
TZOFFSETTO:+0000
TZNAME:UTC
DTSTART:20220101T000000
END:STANDARD
END:VTIMEZONE
BEGIN:VEVENT
DTSTART;TZID=UTC:20230805T210000
DTEND;TZID=UTC:20230805T210000
DTSTAMP:20260420T162121
CREATED:20230731T092406Z
LAST-MODIFIED:20230731T092406Z
UID:81558-1691269200-1691269200@www.algarvemarafado.com
SUMMARY:ALMANCIL: Concerto dos Íris
DESCRIPTION:ALMANCIL: Concerto dos Íris\, integrado nas Festas de Verão e das Comunidades\, em Almancil. A festa também conta com as atuações de Sandra & Ricardo\, Ricardo Madeira e DJ Damel K. A entrada é gratuita. Mais informações aqui.
URL:https://www.algarvemarafado.com/event/almancil-concerto-dos-iris/
LOCATION:Loulé
CATEGORIES:Música
END:VEVENT
BEGIN:VEVENT
DTSTART;TZID=UTC:20230805T213000
DTEND;TZID=UTC:20230805T213000
DTSTAMP:20260420T162121
CREATED:20230731T092310Z
LAST-MODIFIED:20230731T124310Z
UID:81555-1691271000-1691271000@www.algarvemarafado.com
SUMMARY:LAGOS: Atuação do Jasmina Petrovic Ensemble no Lagos World Music
DESCRIPTION:LAGOS: Primeiro dia do Lagos World Music\, na Praça do Infante\, com atuação do Jasmina Petrovic Ensemble\, da Croácia (21h30). Entrada gratuita.
URL:https://www.algarvemarafado.com/event/lagos-lagos-world-music-atuacao-do-jasmina-petrovic-ensemble/
LOCATION:Lagos
CATEGORIES:Música
END:VEVENT
BEGIN:VEVENT
DTSTART;TZID=UTC:20230805T220000
DTEND;TZID=UTC:20230805T220000
DTSTAMP:20260420T162121
CREATED:20230731T092156Z
LAST-MODIFIED:20230731T092156Z
UID:81552-1691272800-1691272800@www.algarvemarafado.com
SUMMARY:PORTIMÃO: Concerto de Cuca Roseta no Festival da Sardinha
DESCRIPTION:PORTIMÃO: Penúltimo dia do Festival da Sardinha\, com concerto de Cuca Roseta (22h00). Saiba mais aqui.
URL:https://www.algarvemarafado.com/event/portimao-concerto-de-cuca-roseta-no-festival-da-sardinha/
LOCATION:Portimão
CATEGORIES:Música
ATTACH;FMTTYPE=image/jpeg:https://www.algarvemarafado.com/wp-content/uploads/2017/07/Cuca_Roseta.jpg
END:VEVENT
END:VCALENDAR