BEGIN:VCALENDAR
VERSION:2.0
PRODID:-//Algarve Marafado - ECPv6.15.20//NONSGML v1.0//EN
CALSCALE:GREGORIAN
METHOD:PUBLISH
X-ORIGINAL-URL:https://www.algarvemarafado.com
X-WR-CALDESC:Eventos para Algarve Marafado
REFRESH-INTERVAL;VALUE=DURATION:PT1H
X-Robots-Tag:noindex
X-PUBLISHED-TTL:PT1H
BEGIN:VTIMEZONE
TZID:UTC
BEGIN:STANDARD
TZOFFSETFROM:+0000
TZOFFSETTO:+0000
TZNAME:UTC
DTSTART:20220101T000000
END:STANDARD
END:VTIMEZONE
BEGIN:VEVENT
DTSTART;TZID=UTC:20230630T203000
DTEND;TZID=UTC:20230630T203000
DTSTAMP:20260420T180145
CREATED:20230606T211919Z
LAST-MODIFIED:20230606T211919Z
UID:80086-1688157000-1688157000@www.algarvemarafado.com
SUMMARY:LOULÉ: Festival MED
DESCRIPTION:LOULÉ: Segundo dia do Festival MED com as atuações de: Bandua (20h30\, Palco Chafariz); Monda (21h15\, Palco Cerca); Tomoro (21h30\, Palco Castelo); Miguel Calhaz (21h45\, Palco Hammam); Kabaka Pyramid (22h15\, Palco Matriz); Nicola ConteUmoja Feat. Zara McFarlane (22h30\, Palco Chafariz); Aywa (23h15\, Palco Cerca); Jean Christian et Le Quatuor Des Rêves Enfouis (23h30\, Palco Castelo); La Sra. Tomasa (00h15\, Palco Matriz); Pedro Mafama (00h30\, Palco Chafariz); Bandaadriatica (01h15\, Palco Cerca) e Venga Venga DJ Set (02h15\, Palco Matriz). Confira toda a extensa programação no site da organização\, aqui.
URL:https://www.algarvemarafado.com/event/loule-festival-med/
LOCATION:Loulé
CATEGORIES:Música
END:VEVENT
BEGIN:VEVENT
DTSTART;TZID=UTC:20230630T220000
DTEND;TZID=UTC:20230630T220000
DTSTAMP:20260420T180145
CREATED:20230606T211821Z
LAST-MODIFIED:20230606T211821Z
UID:80084-1688162400-1688162400@www.algarvemarafado.com
SUMMARY:PORTIMÃO: Desfile das Marchas Populares
DESCRIPTION:PORTIMÃO: Desfile das Marchas Populares na Zona ribeirinha de Portimão (22h00). Saiba mais aqui.
URL:https://www.algarvemarafado.com/event/portimao-desfile-das-marchas-populares-5/
LOCATION:Portimão
CATEGORIES:Festa
END:VEVENT
BEGIN:VEVENT
DTSTART;TZID=UTC:20230705T180000
DTEND;TZID=UTC:20230709T180000
DTSTAMP:20260420T180145
CREATED:20230703T205330Z
LAST-MODIFIED:20230707T104929Z
UID:80736-1688580000-1688925600@www.algarvemarafado.com
SUMMARY:PORTIMÃO: Lota Cool Market
DESCRIPTION:PORTIMÃO: Lota Cool Market (zona ribeirinha de Portimão\, das 18h00 à 01h00)\, que se estende até domingo\, dia 9. Artesanato\, música\, animação e muita comida e bebida esperam pelos visitantes. Saiba mais aqui.
URL:https://www.algarvemarafado.com/event/portimao-arranque-do-lota-cool-market/
LOCATION:Portimão
CATEGORIES:Festa
ATTACH;FMTTYPE=image/jpeg:https://www.algarvemarafado.com/wp-content/uploads/2018/04/Portimao_Lota_Cool_Market.jpg
END:VEVENT
BEGIN:VEVENT
DTSTART;TZID=UTC:20230705T190000
DTEND;TZID=UTC:20230707T190000
DTSTAMP:20260420T180145
CREATED:20230703T205453Z
LAST-MODIFIED:20230703T205453Z
UID:80738-1688583600-1688756400@www.algarvemarafado.com
SUMMARY:PORTIMÃO: Festival de hip-hop Rolling Loud Portugal
DESCRIPTION:PORTIMÃO: Arranque do Festival de hip-hop Rolling Loud Portugal (Praia da Rocha)\, que conta com atuações\, entre outros\, de Travis Scott\, Plaiboi Carti e Meek Will e que se estende até ao dia 7.
URL:https://www.algarvemarafado.com/event/portimao-festival-de-hip-hop-rolling-loud-portugal/
LOCATION:Portimão
CATEGORIES:Música
END:VEVENT
BEGIN:VEVENT
DTSTART;TZID=UTC:20230705T220000
DTEND;TZID=UTC:20230716T220000
DTSTAMP:20260420T180145
CREATED:20230703T205721Z
LAST-MODIFIED:20230713T214128Z
UID:80740-1688594400-1689544800@www.algarvemarafado.com
SUMMARY:TAVIRA: Festival Cenas na Rua
DESCRIPTION:TAVIRA: Festival Internacional de Teatro e Artes na Rua de Tavira – Cenas na Rua (5 a 16 de julho).
URL:https://www.algarvemarafado.com/event/tavira-festival-internacional-de-teatro-e-artes-na-rua-de-tavira-cenas-na-rua/
LOCATION:Tavira
CATEGORIES:Festa
END:VEVENT
BEGIN:VEVENT
DTSTART;TZID=UTC:20230706T183000
DTEND;TZID=UTC:20230706T183000
DTSTAMP:20260420T180145
CREATED:20230703T210152Z
LAST-MODIFIED:20230703T210152Z
UID:80745-1688668200-1688668200@www.algarvemarafado.com
SUMMARY:SILVES: Sunset Secrets no Castelo
DESCRIPTION:SILVES: Sunset Secrets no Castelo de Silves\, com atuação da fadista Ana Sofia Marques (18h30).
URL:https://www.algarvemarafado.com/event/silves-sunset-secrets-no-castelo/
CATEGORIES:Música
END:VEVENT
BEGIN:VEVENT
DTSTART;TZID=UTC:20230706T190000
DTEND;TZID=UTC:20230709T190000
DTSTAMP:20260420T180145
CREATED:20230703T210032Z
LAST-MODIFIED:20230703T210032Z
UID:80742-1688670000-1688929200@www.algarvemarafado.com
SUMMARY:LAGOA: Mercado de Culturas à Luz das Velas
DESCRIPTION:LAGOA: 8ª edição do Mercado de Culturas à Luz das Velas\, em Lagoa (dias 6 a 9 de julho\, a partir das 19h00). Saiba mais aqui.
URL:https://www.algarvemarafado.com/event/lagoa-mercado-de-culturas-a-luz-das-velas/
LOCATION:Lagoa\, Lagoa
CATEGORIES:Festa
ATTACH;FMTTYPE=image/jpeg:https://www.algarvemarafado.com/wp-content/uploads/2017/07/Lagoa_MercadoCulturas2017.jpg
END:VEVENT
BEGIN:VEVENT
DTSTART;TZID=UTC:20230707T170000
DTEND;TZID=UTC:20230708T170000
DTSTAMP:20260420T180145
CREATED:20230703T210834Z
LAST-MODIFIED:20230703T210834Z
UID:80749-1688749200-1688835600@www.algarvemarafado.com
SUMMARY:FARO: “Açoteia – Faro Rooftop Festival”
DESCRIPTION:FARO: “Açoteia – Faro Rooftop Festival”\, que conta\, ao longo de dois dias\, com mais de 130 ações – entre as quais exposições\, instalações\, conversas\, concertos\, performances\, teatro\, dança ou DJ sets – que acontecem em 35 açoteias abertas ao público em toda a cidade de Faro (dias 7 e 8)
URL:https://www.algarvemarafado.com/event/faro-acoteia-faro-rooftop-festival/
LOCATION:Faro\, Faro
CATEGORIES:Festa
END:VEVENT
BEGIN:VEVENT
DTSTART;TZID=UTC:20230707T230000
DTEND;TZID=UTC:20230707T230000
DTSTAMP:20260420T180145
CREATED:20230615T161900Z
LAST-MODIFIED:20230615T161900Z
UID:80307-1688770800-1688770800@www.algarvemarafado.com
SUMMARY:ALBUFEIRA: Concerto do grupo D.A.M.A
DESCRIPTION:ALBUFEIRA: Concerto do grupo D.A.M.A\, na Marina de Albufeira (23h00). Saiba mais aqui. \n 
URL:https://www.algarvemarafado.com/event/albufeira-concerto-do-grupo-d-a-m-a/
LOCATION:Albufeira
CATEGORIES:Música
ATTACH;FMTTYPE=image/jpeg:https://www.algarvemarafado.com/wp-content/uploads/2022/07/DAMA.jpg
END:VEVENT
BEGIN:VEVENT
DTSTART;TZID=UTC:20230707T230000
DTEND;TZID=UTC:20230707T230000
DTSTAMP:20260420T180145
CREATED:20230703T210702Z
LAST-MODIFIED:20230703T210702Z
UID:80747-1688770800-1688770800@www.algarvemarafado.com
SUMMARY:ALBUFEIRA: Atuação do grupo D.A.M.A.
DESCRIPTION:ALBUFEIRA: Atuação do grupo D.A.M.A. (23h00) na Marina de Albufeira\, integrada na XXV Feira de Caça\, Pesca\, Turismo e Natureza. Confira aqui todo o programa.
URL:https://www.algarvemarafado.com/event/albufeira-atuacao-do-grupo-d-a-m-a/
LOCATION:Albufeira
CATEGORIES:Música
ATTACH;FMTTYPE=image/jpeg:https://www.algarvemarafado.com/wp-content/uploads/2022/07/DAMA.jpg
END:VEVENT
BEGIN:VEVENT
DTSTART;TZID=UTC:20230708T170000
DTEND;TZID=UTC:20230708T173000
DTSTAMP:20260420T180145
CREATED:20230703T211941Z
LAST-MODIFIED:20230703T211941Z
UID:80761-1688835600-1688837400@www.algarvemarafado.com
SUMMARY:SAGRES: Primeira sessão do Beliche Jazz
DESCRIPTION:SAGRES: Primeira sessão do Beliche Jazz\, com a atuação de Leon Baldesberger Meersalz (17h00)\, no Forte de Beliche\, em Sagres. Os bilhetes custam 3\,5 euros e estão à venda na Câmara Municipal de Vila do Bispo\, nos serviços de Tesouraria\, nos dias úteis das 09h00 às 15h00\, ou online\, aqui. A lotação é limitada.
URL:https://www.algarvemarafado.com/event/sagres-primeira-sessao-do-beliche-jazz/
LOCATION:Vila do Bispo
CATEGORIES:Música
END:VEVENT
BEGIN:VEVENT
DTSTART;TZID=UTC:20230708T190000
DTEND;TZID=UTC:20230708T190000
DTSTAMP:20260420T180145
CREATED:20230703T211840Z
LAST-MODIFIED:20230703T211840Z
UID:80757-1688842800-1688842800@www.algarvemarafado.com
SUMMARY:FUZETA: “Noites da Branca Noiva do Mar”
DESCRIPTION:OLHÃO/FUZETA: “Noites da Branca Noiva do Mar”\, no Largo da Igreja da Fuzeta (19h00/01h00)\, com atuações dos grupos Contrabando (22h00) e Al-Mouraria (23h30)
URL:https://www.algarvemarafado.com/event/fuzeta-noites-da-branca-noiva-do-mar/
LOCATION:Olhão
CATEGORIES:Festa
END:VEVENT
BEGIN:VEVENT
DTSTART;TZID=UTC:20230708T220000
DTEND;TZID=UTC:20230708T220000
DTSTAMP:20260420T180145
CREATED:20230703T211036Z
LAST-MODIFIED:20230703T211036Z
UID:80751-1688853600-1688853600@www.algarvemarafado.com
SUMMARY:PORTIMÃO: Concerto da banda The Gift
DESCRIPTION:PORTIMÃO: Concerto da banda The Gift\, na Alameda da Praça da República\, em Portimão (22h00). Entrada gratuita. Mais informações aqui.
URL:https://www.algarvemarafado.com/event/portimao-concerto-da-banda-the-gift/
LOCATION:Portimão
CATEGORIES:Música
ATTACH;FMTTYPE=image/jpeg:https://www.algarvemarafado.com/wp-content/uploads/2016/08/TheGift_Palco.jpg
END:VEVENT
BEGIN:VEVENT
DTSTART;TZID=UTC:20230708T220000
DTEND;TZID=UTC:20230708T220000
DTSTAMP:20260420T180145
CREATED:20230703T211215Z
LAST-MODIFIED:20230703T211215Z
UID:80753-1688853600-1688853600@www.algarvemarafado.com
SUMMARY:ALBUFEIRA: Concerto “Algarve Camerata”
DESCRIPTION:ALBUFEIRA: Concerto “Algarve Camerata” (22h00) na Igreja Matriz de Albufeira.
URL:https://www.algarvemarafado.com/event/albufeira-concerto-algarve-camerata/
LOCATION:Albufeira
CATEGORIES:Música
END:VEVENT
BEGIN:VEVENT
DTSTART;TZID=UTC:20230708T230000
DTEND;TZID=UTC:20230708T230000
DTSTAMP:20260420T180145
CREATED:20230615T162014Z
LAST-MODIFIED:20230615T162014Z
UID:80309-1688857200-1688857200@www.algarvemarafado.com
SUMMARY:ALBUFEIRA: Concerto de Miguel Gameiro e os Polo Norte
DESCRIPTION:ALBUFEIRA: Concerto de Miguel Gameiro e os Polo Norte\, na Marina de Albufeira (23h00). Saiba mais aqui.
URL:https://www.algarvemarafado.com/event/albufeira-concerto-de-miguel-gameiro-e-os-polo-norte/
LOCATION:Albufeira
CATEGORIES:Música
ATTACH;FMTTYPE=image/jpeg:https://www.algarvemarafado.com/wp-content/uploads/2021/12/Polo_Norte_cmptm.jpg
END:VEVENT
BEGIN:VEVENT
DTSTART;TZID=UTC:20230708T230000
DTEND;TZID=UTC:20230708T230000
DTSTAMP:20260420T180145
CREATED:20230703T211504Z
LAST-MODIFIED:20230703T211525Z
UID:80755-1688857200-1688857200@www.algarvemarafado.com
SUMMARY:ALBUFEIRA: Atuação de Miguel Gameiro e Polo Norte
DESCRIPTION:ALBUFEIRA: Atuação de Miguel Gameiro e Polo Norte (23h00) na Marina de Albufeira\, integrada na XXV Feira de Caça\, Pesca\, Turismo e Natureza. Confira aqui todo o programa.
URL:https://www.algarvemarafado.com/event/albufeira-atuacao-de-miguel-gameiro-e-polo-norte/
CATEGORIES:Música
ATTACH;FMTTYPE=image/jpeg:https://www.algarvemarafado.com/wp-content/uploads/2021/12/Polo_Norte_cmptm.jpg
END:VEVENT
BEGIN:VEVENT
DTSTART;TZID=UTC:20230713T120000
DTEND;TZID=UTC:20230716T170000
DTSTAMP:20260420T180145
CREATED:20230703T212127Z
LAST-MODIFIED:20230703T212127Z
UID:80764-1689249600-1689526800@www.algarvemarafado.com
SUMMARY:LAGOS: Lagos Food Fest
DESCRIPTION:LAGOS: Lagos Food Fest\, na Praça do Infante e Jardim da Constituição\, entre os dias 13 e 16 de julho (12h00/24h00).
URL:https://www.algarvemarafado.com/event/lagos-lagos-food-fest/
LOCATION:Lagos
CATEGORIES:Festa
END:VEVENT
BEGIN:VEVENT
DTSTART;TZID=UTC:20230713T183000
DTEND;TZID=UTC:20230713T183000
DTSTAMP:20260420T180145
CREATED:20230703T212230Z
LAST-MODIFIED:20230703T212230Z
UID:80766-1689273000-1689273000@www.algarvemarafado.com
SUMMARY:SILVES: Sunset Secrets
DESCRIPTION:SILVES: Sunset Secrets no Castelo de Silves\, com atuação do grupo Trio da Terra (18h30).
URL:https://www.algarvemarafado.com/event/silves-sunset-secrets/
LOCATION:Silves
CATEGORIES:Música
END:VEVENT
BEGIN:VEVENT
DTSTART;TZID=UTC:20230713T220000
DTEND;TZID=UTC:20230713T220000
DTSTAMP:20260420T180145
CREATED:20230706T165821Z
LAST-MODIFIED:20230706T165821Z
UID:80896-1689285600-1689285600@www.algarvemarafado.com
SUMMARY:LOULÉ: Concerto de Carminho
DESCRIPTION:LOULÉ: Concerto de Carminho na Feira Popular de Loulé (22h00). Mais informações aqui.
URL:https://www.algarvemarafado.com/event/loule-concerto-de-carminho/
LOCATION:Loulé
CATEGORIES:Música
ATTACH;FMTTYPE=image/png:https://www.algarvemarafado.com/wp-content/uploads/2018/05/Carminho.png
END:VEVENT
BEGIN:VEVENT
DTSTART;TZID=UTC:20230714T213000
DTEND;TZID=UTC:20230714T213000
DTSTAMP:20260420T180145
CREATED:20230703T212358Z
LAST-MODIFIED:20230703T212358Z
UID:80768-1689370200-1689370200@www.algarvemarafado.com
SUMMARY:LAGOS: Primeiro concertos de Verão da Orquestra do Algarve
DESCRIPTION:LAGOS: Primeiro de dois concertos de Verão da Orquestra do Algarve (21h30) no Antigo Ciclo Preparatório (em frente ao Edifício do Paços do Concelho Séc. XXI). Bilhetes: 5 € disponíveis para venda através da BOL (8 € pacote de dois dias com o espetáculo de dia 15).
URL:https://www.algarvemarafado.com/event/lagos-primeiro-concertos-de-verao-da-orquestra-do-algarve/
LOCATION:Lagos
CATEGORIES:Música
ATTACH;FMTTYPE=image/jpeg:https://www.algarvemarafado.com/wp-content/uploads/2023/03/Maestro_Martim_Sousa_Tavares_cmptm.jpg
END:VEVENT
BEGIN:VEVENT
DTSTART;TZID=UTC:20230715T170000
DTEND;TZID=UTC:20230715T170000
DTSTAMP:20260420T180145
CREATED:20230703T213016Z
LAST-MODIFIED:20230703T213016Z
UID:80780-1689440400-1689440400@www.algarvemarafado.com
SUMMARY:SAGRES: Beliche Jazz
DESCRIPTION:SAGRES: Beliche Jazz\, com atuação do duo Sara Badalo & Leo Vrilaud (17h00)\, no Forte de Beliche\, em Sagres. Os bilhetes custam 3\,5 euros e estão à venda na Câmara Municipal de Vila do Bispo\, nos serviços de Tesouraria\, nos dias úteis das 09h00 às 15h00\, ou online\, aqui. A lotação é limitada.
URL:https://www.algarvemarafado.com/event/sagres-beliche-jazz/
LOCATION:Vila do Bispo
CATEGORIES:Música
END:VEVENT
BEGIN:VEVENT
DTSTART;TZID=UTC:20230715T190000
DTEND;TZID=UTC:20230715T190000
DTSTAMP:20260420T180145
CREATED:20230703T212831Z
LAST-MODIFIED:20230703T212831Z
UID:80776-1689447600-1689447600@www.algarvemarafado.com
SUMMARY:LAGOA: Gala do Grand Jeté International Dance Award
DESCRIPTION:LAGOA: Gala do Grand Jeté International Dance Award\, uma competição internacional de Dança nas vertentes de Ballet Clássico e estilo Contemporâneo\, que decorre no Auditório Carlos do Carmo\, em Lagoa (19h00). Os bilhetes custam €10 (20% desconto c/ passaporte cultural\, cartão Lagoa Social ou Passaporte Rota do Petisco 2022\, disponível nas bilheteiras do Município de Lagoa) e já se encontram à venda em: https://cmlagoa.bol.pt/ e nas bilheteiras dos CTT\, da Fnac\, Worten\, Auditório Carlos do Carmo\, Centro Cultural Convento de S. José e Balcão Único da Câmara Municipal de Lagoa.
URL:https://www.algarvemarafado.com/event/lagoa-gala-do-grand-jete-international-dance-award/
LOCATION:Lagoa\, Lagoa
CATEGORIES:Dança
END:VEVENT
BEGIN:VEVENT
DTSTART;TZID=UTC:20230715T213000
DTEND;TZID=UTC:20230715T213000
DTSTAMP:20260420T180145
CREATED:20230703T212732Z
LAST-MODIFIED:20230703T212732Z
UID:80773-1689456600-1689456600@www.algarvemarafado.com
SUMMARY:LAGOS: Segundo concertos de Verão da Orquestra do Algarve
DESCRIPTION:LAGOS: Segundo de dois concertos de Verão da Orquestra do Algarve (21h30) no Antigo Ciclo Preparatório (em frente ao Edifício do Paços do Concelho Séc. XXI). Bilhetes: 5 € disponíveis para venda através da BOL.
URL:https://www.algarvemarafado.com/event/lagos-segundo-concertos-de-verao-da-orquestra-do-algarve/
LOCATION:Lagos
CATEGORIES:Música
END:VEVENT
BEGIN:VEVENT
DTSTART;TZID=UTC:20230715T220000
DTEND;TZID=UTC:20230715T220000
DTSTAMP:20260420T180145
CREATED:20230703T212542Z
LAST-MODIFIED:20230703T212542Z
UID:80770-1689458400-1689458400@www.algarvemarafado.com
SUMMARY:PORTIMÃO: Concerto de Cherry e Orquestra de Jazz do Algarve
DESCRIPTION:PORTIMÃO: Concerto “Summer Lights” de Cherry e Orquestra de Jazz do Algarve\, no Teatro Municipal de Portimão (TEMPO\, 22h00). Os bilhetes custam 10 euros e estão à venda aqui.
URL:https://www.algarvemarafado.com/event/portimao-concerto-de-cherry-e-orquestra-de-jazz-do-algarve/
LOCATION:Portimão
CATEGORIES:Música
ATTACH;FMTTYPE=image/jpeg:https://www.algarvemarafado.com/wp-content/uploads/2023/03/Portimao_TEMPO_am.jpg
END:VEVENT
BEGIN:VEVENT
DTSTART;TZID=UTC:20230716T210000
DTEND;TZID=UTC:20230716T210000
DTSTAMP:20260420T180145
CREATED:20230706T165706Z
LAST-MODIFIED:20230706T165706Z
UID:80892-1689541200-1689541200@www.algarvemarafado.com
SUMMARY:LOULÉ: Concerto de Jorge Palma
DESCRIPTION:LOULÉ: Concerto de Jorge Palma na Feira Popular de Loulé (21h00). Mais informações aqui.
URL:https://www.algarvemarafado.com/event/loule-concerto-de-jorge-palma/
LOCATION:Loulé
CATEGORIES:Música
ATTACH;FMTTYPE=image/jpeg:https://www.algarvemarafado.com/wp-content/uploads/2017/04/Jorge_Palma6.jpg
END:VEVENT
BEGIN:VEVENT
DTSTART;TZID=UTC:20230719T210000
DTEND;TZID=UTC:20230719T210000
DTSTAMP:20260420T180145
CREATED:20230703T213140Z
LAST-MODIFIED:20230703T213140Z
UID:80782-1689800400-1689800400@www.algarvemarafado.com
SUMMARY:LAGOA: Atuação da fadista Ondina Santos
DESCRIPTION:LAGOA: Atuação da fadista Ondina Santos (21h00) no Largo 5 de Outubro\, em Lagoa (“A Cultura sai à Rua”).
URL:https://www.algarvemarafado.com/event/lagoa-atuacao-da-fadista-ondina-santos/
LOCATION:Lagoa\, Lagoa
CATEGORIES:Música
END:VEVENT
BEGIN:VEVENT
DTSTART;TZID=UTC:20230720T183000
DTEND;TZID=UTC:20230720T183000
DTSTAMP:20260420T180145
CREATED:20230703T213247Z
LAST-MODIFIED:20230703T213247Z
UID:80784-1689877800-1689877800@www.algarvemarafado.com
SUMMARY:SILVES: Sunset Secrets
DESCRIPTION:SILVES: Sunset Secrets no Castelo de Silves\, com atuação do grupo The Mirandas (18h30).
URL:https://www.algarvemarafado.com/event/silves-sunset-secrets-2/
LOCATION:Silves
CATEGORIES:Música
END:VEVENT
BEGIN:VEVENT
DTSTART;TZID=UTC:20230721T183000
DTEND;TZID=UTC:20230723T183000
DTSTAMP:20260420T180145
CREATED:20230703T213514Z
LAST-MODIFIED:20230703T213514Z
UID:80786-1689964200-1690137000@www.algarvemarafado.com
SUMMARY:LAGOA/ESTÔMBAR: Lagoa Jazz Fest
DESCRIPTION:LAGOA/ESTÔMBAR: Lagoa Jazz Fest\, no Sítio das Fontes\, em Estômbar (21 a 23 de julho).
URL:https://www.algarvemarafado.com/event/lagoa-estombar-lagoa-jazz-fest/
LOCATION:Lagoa\, Lagoa
CATEGORIES:Música
ATTACH;FMTTYPE=image/jpeg:https://www.algarvemarafado.com/wp-content/uploads/2016/10/FontesEstombar111.jpg
END:VEVENT
BEGIN:VEVENT
DTSTART;TZID=UTC:20230721T190000
DTEND;TZID=UTC:20230723T190000
DTSTAMP:20260420T180145
CREATED:20230705T163801Z
LAST-MODIFIED:20230705T163801Z
UID:80868-1689966000-1690138800@www.algarvemarafado.com
SUMMARY:SALIR: Mais uma edição de Salir no Tempo
DESCRIPTION:SALIR: Arranque de mais uma edição de Salir no Tempo\, evento dedicado à época romana (dias 21 a 23 de julho). Mais informações aqui.
URL:https://www.algarvemarafado.com/event/salir-mais-uma-edicao-de-salir-no-tempo/
LOCATION:Loulé
CATEGORIES:Festa
END:VEVENT
BEGIN:VEVENT
DTSTART;TZID=UTC:20230722T170000
DTEND;TZID=UTC:20230722T170000
DTSTAMP:20260420T180145
CREATED:20230703T213739Z
LAST-MODIFIED:20230703T213739Z
UID:80790-1690045200-1690045200@www.algarvemarafado.com
SUMMARY:SAGRES: Beliche Jazz\, com atuação do Quinteto da Orquestra de Jazz do Algarve
DESCRIPTION:SAGRES: Beliche Jazz\, com atuação do Quinteto da Orquestra de Jazz do Algarve\, “A Música de Horace Silver”\, (17h00)\, no Forte de Beliche\, em Sagres. Os bilhetes custam 3\,5 euros e estão à venda na Câmara Municipal de Vila do Bispo\, nos serviços de Tesouraria\, nos dias úteis das 09h00 às 15h00\, ou online\, aqui. A lotação é limitada.
URL:https://www.algarvemarafado.com/event/sagres-beliche-jazz-com-atuacao-do-quinteto-da-orquestra-de-jazz-do-algarve/
LOCATION:Vila do Bispo
CATEGORIES:Música
END:VEVENT
END:VCALENDAR